BEGIN:VCALENDAR
VERSION:2.0
PRODID:-//ChamberMaster//Event Calendar 2.0//EN
METHOD:PUBLISH
X-PUBLISHED-TTL:P3D
REFRESH-INTERVAL:P3D
CALSCALE:GREGORIAN
BEGIN:VEVENT
DTSTART:20200113T190000Z
DTEND:20200113T220000Z
X-MICROSOFT-CDO-ALLDAYEVENT:FALSE
SUMMARY:2020 Mentorship Social Series
DESCRIPTION:As a leader\, you know that mentoring makes a difference for kids. The attention and guidance of an older friend fosters confidence and well-being\, as well as unlocking opportunities so kids can ignite their own potential. \n\nThis National Mentoring Month\, we want you to know how much we appreciate your work as a mentor and to thank you for your commitment to the youth in your life. \n\nThroughout January\, Big Brothers Big Sisters is hosting a series of 4 pop-up events to highlight the ways mentoring positively impacts families\, companies\, and the local community. Come have a few snacks and hear from other mentors about their experiences. Or come to share your story with tomorrow's volunteers. \n\nWe have 900+ kids on our waitlist\, each one looking for a mentor and friend. With your help\, we can find the right match for everyone.
X-ALT-DESC;FMTTYPE=text/html:<p><span style="font-family:trebuchet ms\,sans-serif\; font-size:11.0pt">As a leader\, you know that mentoring makes a difference for kids. The attention and guidance of an older friend fosters confidence and well-being\, as well as unlocking opportunities so kids can ignite their own potential. </span></p>\n\n<p><span style="font-family:trebuchet ms\,sans-serif\; font-size:\n">This National Mentoring Month\, we want you to know how much we appreciate your work as a mentor&mdash\;and to thank you for your commitment to the youth in your life. </span></p>\n\n<p><span style="font-family:trebuchet ms\,sans-serif\; font-size:\n">Throughout January\, Big Brothers Big Sisters is hosting a series of 4 pop-up events to highlight the ways mentoring positively impacts families\, companies\, and the local community. Come have a few snacks and hear from other mentors about their experiences. Or come to share your story with tomorrow&rsquo\;s volunteers. </span></p>\n\n<p><span style="font-family:trebuchet ms\,sans-serif\; font-size:\n">We have 900+ kids on our waitlist\, each one looking for a mentor and friend. With your help\, we can find the right match for everyone. </span></p>\n
LOCATION:Where and when: Zulily HQ Starbucks (Jan. 13 @ 11 AM) Seattle Credit Union - South Center (Jan. 15 @ 4 PM) The Collective - South Lake Union (Jan. 24 @ 5 PM) The Shop - SoDo (Jan. 27 @ 4 PM)
UID:e.2591.3745
SEQUENCE:3
DTSTAMP:20260422T163500Z
URL:http://sschamber.chambermaster.com/events/details/2020-mentorship-social-series-3745
END:VEVENT

END:VCALENDAR
