BEGIN:VCALENDAR
VERSION:2.0
PRODID:-//ChamberMaster//Event Calendar 2.0//EN
METHOD:PUBLISH
X-PUBLISHED-TTL:P3D
REFRESH-INTERVAL:P3D
CALSCALE:GREGORIAN
BEGIN:VEVENT
DTSTART:20200818T150000Z
DTEND:20200818T160000Z
X-MICROSOFT-CDO-ALLDAYEVENT:FALSE
SUMMARY:Business Issues Forum: August 2020
DESCRIPTION:Join Seattle Metro Chamber for a discussion of current public affairs issues. All members are welcome! This event is closed to working media.
X-ALT-DESC;FMTTYPE=text/html:<span style="color: rgb(76\, 77\, 79)\; font-family: &quot\;Source Sans Pro&quot\;\, Helvetica\, Arial\, sans-serif\; font-size: 14px\;">Join Seattle Metro Chamber for a discussion of current public affairs issues. All members are welcome!&nbsp\;This event is closed to working media.</span>
LOCATION:Virtual
UID:e.2591.4144
SEQUENCE:3
DTSTAMP:20260419T133808Z
URL:http://sschamber.chambermaster.com/events/details/business-issues-forum-august-2020-4144
END:VEVENT

END:VCALENDAR
