BEGIN:VCALENDAR
VERSION:2.0
PRODID:-//ChamberMaster//Event Calendar 2.0//EN
METHOD:PUBLISH
X-PUBLISHED-TTL:P3D
REFRESH-INTERVAL:P3D
CALSCALE:GREGORIAN
BEGIN:VEVENT
DTSTART:20191225T193000Z
DTEND:20191226T050000Z
X-MICROSOFT-CDO-ALLDAYEVENT:FALSE
SUMMARY:Christmas Dinner at Basil's
DESCRIPTION:Basil's will be open on Christmas Day! Join us for Holiday Classics like Apple Cider Brined Turkey Breast with Garlic Whipped Mashed Potatoes\, Green Beans & Cranberry Relish. Or go with a Northwest Gourmet Special like Seared Salmon with Wild Mushrooms & Sweet Corn Sauce.
X-ALT-DESC;FMTTYPE=text/html:Basil&rsquo\;s will be open on Christmas Day! Join us for Holiday Classics like Apple Cider Brined Turkey Breast with Garlic Whipped Mashed Potatoes\, Green Beans &amp\; Cranberry Relish. Or go with a Northwest Gourmet Special like Seared Salmon with Wild Mushrooms &amp\; Sweet Corn Sauce.&nbsp\;
LOCATION:Basil's Kitchen 15920 W Valley Hwy Tukwila\, Washington
UID:e.2591.3730
SEQUENCE:3
DTSTAMP:20260419T134013Z
URL:http://sschamber.chambermaster.com/events/details/christmas-dinner-at-basil-s-3730
END:VEVENT

END:VCALENDAR
