BEGIN:VCALENDAR
VERSION:2.0
PRODID:-//ChamberMaster//Event Calendar 2.0//EN
METHOD:PUBLISH
X-PUBLISHED-TTL:P3D
REFRESH-INTERVAL:P3D
CALSCALE:GREGORIAN
BEGIN:VEVENT
DTSTART:20191207T013000Z
DTEND:20191207T070000Z
X-MICROSOFT-CDO-ALLDAYEVENT:FALSE
SUMMARY:Halverson Law Ribbon Cutting
DESCRIPTION:Our local Cannabis & Small Business Law firm has expanded and they want YOU to celebrate with them Friday\, December 6th at 5:00pm.
X-ALT-DESC;FMTTYPE=text/html:<span style="color: rgb(33\, 33\, 33)\; font-family: arial\; font-size: 14px\;">Our local Cannabis &amp\; Small Business Law firm has expanded and they want YOU to celebrate with them&nbsp\;</span><strong style="color: rgb(33\, 33\, 33)\; font-family: arial\; font-size: 14px\;">Friday\, December 6th at 5:00pm</strong><span style="color: rgb(33\, 33\, 33)\; font-family: arial\; font-size: 14px\;">.&nbsp\;</span>
LOCATION:The ribbon cutting ceremony will take place at their location at 19655 First Ave South\, Suite 106\, Normandy Park\, WA 98148.
UID:e.2591.3674
SEQUENCE:3
DTSTAMP:20260422T113137Z
URL:http://sschamber.chambermaster.com/events/details/halverson-law-ribbon-cutting-3674
END:VEVENT

END:VCALENDAR
