BEGIN:VCALENDAR
VERSION:2.0
PRODID:-//ChamberMaster//Event Calendar 2.0//EN
METHOD:PUBLISH
X-PUBLISHED-TTL:P3D
REFRESH-INTERVAL:P3D
CALSCALE:GREGORIAN
BEGIN:VEVENT
DTSTART:20200304T170000Z
DTEND:20200305T000000Z
X-MICROSOFT-CDO-ALLDAYEVENT:FALSE
SUMMARY:King County Interview & Hire Event
DESCRIPTION:The King County Department of Natural Resources and Parks is looking to hire for many seasonal jobs (April through October) located throughout King County\, starting at $22/hour.\n\n\n\nOn-site interviews with King County DNRP staff for:\n\n	Seasonal Park Maintenance Jobs at $22.74/hr\n	Wastewater Treatment Division Seasonal Grounds Helper Jobs at $22.20/hr
X-ALT-DESC;FMTTYPE=text/html:The King County Department of Natural Resources and Parks is looking to hire for many seasonal jobs (April through October) located throughout King County\, starting at $22/hour.<br />\n<br />\nOn-site interviews with King County DNRP staff for:\n<ul>\n	<li>Seasonal Park Maintenance Jobs at $22.74/hr</li>\n	<li>Wastewater Treatment Division Seasonal Grounds Helper Jobs at $22.20/hr</li>\n</ul>\n
LOCATION:Renton Community Center 1715 Maple Valley Highway Renton\, WA 98057
UID:e.2591.3826
SEQUENCE:3
DTSTAMP:20260419T181112Z
URL:http://sschamber.chambermaster.com/events/details/king-county-interview-hire-event-3826
END:VEVENT

END:VCALENDAR
