BEGIN:VCALENDAR
VERSION:2.0
PRODID:-//ChamberMaster//Event Calendar 2.0//EN
METHOD:PUBLISH
X-PUBLISHED-TTL:P3D
REFRESH-INTERVAL:P3D
CALSCALE:GREGORIAN
BEGIN:VEVENT
DTSTART:20200826T210000Z
DTEND:20200826T230000Z
X-MICROSOFT-CDO-ALLDAYEVENT:FALSE
SUMMARY:KLCS Rent Smart - Evictions & Terminations
DESCRIPTION:General tenants' rights information:\n\n\n	Evictions\n	Month to month terminations\n	What to do after an eviction\n\n\nIf you are currently living in King County and being threatened with eviction\, contact the Housing Justice Project for legal assistance at 253.234.4204 or hjpstaff@kcba.org.\n\n\n\nPlease register by 1pm on August 26. You will receive a Zoom link at around 1pm on the day of the event.\n\nSpace is limited to 25.
X-ALT-DESC;FMTTYPE=text/html:<p>General tenants&#39\; rights information:</p>\n\n<ul>\n	<li>Evictions</li>\n	<li>Month to month terminations</li>\n	<li>What to do after an eviction</li>\n</ul>\n\n<p>If you are currently living in King County and being threatened with eviction\, contact the Housing Justice Project for legal assistance at 253.234.4204 or hjpstaff@kcba.org.<br />\n<br />\nPlease register&nbsp\;by 1pm on August 26. You will receive a Zoom link at around 1pm on the day of the event.</p>\n\n<p>Space is limited to 25.</p>\n
LOCATION:Virtual via Zoom Register Here
UID:e.2591.4151
SEQUENCE:3
DTSTAMP:20260419T181112Z
URL:http://sschamber.chambermaster.com/events/details/klcs-rent-smart-evictions-terminations-4151
END:VEVENT

END:VCALENDAR
