BEGIN:VCALENDAR
VERSION:2.0
PRODID:-//ChamberMaster//Event Calendar 2.0//EN
METHOD:PUBLISH
X-PUBLISHED-TTL:P3D
REFRESH-INTERVAL:P3D
CALSCALE:GREGORIAN
BEGIN:VEVENT
DTSTART:20200403T213000Z
DTEND:20200403T223000Z
X-MICROSOFT-CDO-ALLDAYEVENT:FALSE
SUMMARY:SBA Paycheck Protection Program & CARES Act - Webinar
DESCRIPTION:Are you eligible? How much can you borrow? Will this loan be forgiven? These questions are being asked across small businesses impacted by COVID 19. We hope you will join us for our discussion tomorrow where we delve into these urgent inquiries in preparation for the formal release of the new Small Business Administration (SBA) loans\, Grants\, and Pay Check Protection Program (PPP).\n\n\n\n \n\n\n\nOur webinar on 4/3/20 from 2:30-3:30 will feature Joe Sky-Tucker who is the Executive Director with Business Impact NW one of Washington State's leading community development and business assistance organizations. BINW is an asset building/community lender that specializes in supporting small and microbusinesses\; helping them to achieve financial stability.  Joe will share what the CARES Act means for small business owners by presenting on loan details like eligibility\, documentation requirements and implications for small business especially as it relates to loan forgiveness.
X-ALT-DESC;FMTTYPE=text/html:Are you eligible? How much can you borrow? Will this loan be forgiven? These questions are being asked across small businesses impacted by COVID 19. We hope you will join us for our discussion tomorrow where we delve into these urgent inquiries in preparation for the formal release of the new Small Business Administration (SBA) loans\, Grants\, and Pay Check Protection Program (PPP).<br />\n<br />\n&nbsp\;<br />\n<br />\nOur webinar on 4/3/20 from 2:30-3:30 will feature Joe Sky-Tucker who is the Executive Director with Business Impact NW one of Washington State&rsquo\;s leading community development and business assistance organizations. BINW is an asset building/community lender that specializes in supporting small and microbusinesses\; helping them to achieve financial stability.&nbsp\; Joe will share what the CARES Act means for small business owners by presenting on loan details like eligibility\, documentation requirements and implications for small business especially as it relates to loan forgiveness.
LOCATION:Virtual via Skype Join Skype Meeting Trouble Joining? Try Skype Web App Join by phone 1.206.263.8114 (Washington state) Find a local number Conference ID: 390040 Forgot your dial-in PIN? |Help
UID:e.2591.3933
SEQUENCE:3
DTSTAMP:20260420T134123Z
URL:http://sschamber.chambermaster.com/events/details/sba-paycheck-protection-program-cares-act-webinar-3933
END:VEVENT

END:VCALENDAR
