BEGIN:VCALENDAR
VERSION:2.0
PRODID:-//ChamberMaster//Event Calendar 2.0//EN
METHOD:PUBLISH
X-PUBLISHED-TTL:P3D
REFRESH-INTERVAL:P3D
CALSCALE:GREGORIAN
BEGIN:VEVENT
DTSTART:20200812T153000Z
DTEND:20200812T163000Z
X-MICROSOFT-CDO-ALLDAYEVENT:FALSE
SUMMARY:The Virtual Morning Buzz
DESCRIPTION:Join us for the VIRTUAL Morning Buzz\, where we bring together decision-makers looking to build stronger professional connections. Each attendee will be able to briefly talk about their business\, followed by a featured member who will provide insight into a local resources.\n\n\n\nThis month\, we'll be featuring member Swingbuy\, who will share information about their online marketplace designed to promote local small businesses.
X-ALT-DESC;FMTTYPE=text/html:Join us for the VIRTUAL Morning Buzz\, where we bring together decision-makers looking to build stronger professional connections. Each attendee will be able to briefly talk about their business\, followed by a featured member who will provide insight into a local resources.<br />\n<br />\nThis month\, we&#39\;ll be featuring member Swingbuy\, who will share information about their online marketplace designed to promote local small businesses.&nbsp\;
LOCATION:Virtual\, via Zoom Login details to be provided with registration confirmation
UID:e.2591.3163
SEQUENCE:3
DTSTAMP:20260422T000947Z
URL:http://sschamber.chambermaster.com/events/details/the-virtual-morning-buzz-08-12-2020-3163
END:VEVENT

END:VCALENDAR
