BEGIN:VCALENDAR
VERSION:2.0
PRODID:-//ChamberMaster//Event Calendar 2.0//EN
METHOD:PUBLISH
X-PUBLISHED-TTL:P3D
REFRESH-INTERVAL:P3D
CALSCALE:GREGORIAN
BEGIN:VEVENT
DTSTART:20200818T180000Z
DTEND:20200818T190000Z
X-MICROSOFT-CDO-ALLDAYEVENT:FALSE
SUMMARY:#WeGotThisWA Series: Seattle Public Schools Update
DESCRIPTION:In light of continued concerns about the risks COVID-19 transmission\, Seattle Public Schools Superintendent Juneau has recommended to the School Board that the district start the 2020-2021 school year remotely\, and follow the remote instruction model until the risk has decreased. The Seattle School Board will be voting on this recommendation on August 12\, and we will hear from Superintendent Juneau the following week.\n\n\n\nShe will share how district staff are preparing for the fall and working to improve remote instruction\, including improving consistency with predictable schedules for live instruction\, providing students with computers\, and planning for students with IEPs.
X-ALT-DESC;FMTTYPE=text/html:In light of continued concerns about the risks COVID-19 transmission\, Seattle Public Schools Superintendent Juneau has recommended to the School Board that the district start the 2020-2021 school year remotely\, and follow the remote instruction model until the risk has decreased. The Seattle School Board will be voting on this recommendation on August 12\, and we will hear from Superintendent Juneau the following week.<br font-size:="" sans="" source="" />\n<br font-size:="" sans="" source="" />\nShe will share how district staff are preparing for the fall and working to improve remote instruction\, including improving consistency with predictable schedules for live instruction\, providing students with computers\, and planning for students with IEPs.
LOCATION:Virtual
UID:e.2591.4143
SEQUENCE:3
DTSTAMP:20260421T111944Z
URL:http://sschamber.chambermaster.com/events/details/wegotthiswa-series-seattle-public-schools-update-4143
END:VEVENT

END:VCALENDAR
