BEGIN:VCALENDAR
VERSION:2.0
PRODID:-//ChamberMaster//Event Calendar 2.0//EN
METHOD:PUBLISH
X-PUBLISHED-TTL:P3D
REFRESH-INTERVAL:P3D
CALSCALE:GREGORIAN
BEGIN:VEVENT
DTSTART:20200825T050000Z
DTEND:20200827T210000Z
X-MICROSOFT-CDO-ALLDAYEVENT:FALSE
SUMMARY:YMCA Step Out and Level Up
DESCRIPTION:Join the Y for their new virtual event\, STEP OUT AND LEVEL UP--a life skill and employment conference for young adults.\n\n\n\nKickoff event Monday at 10:00am\, featuring local athletes\, artists\, and entrepreneurs.\n\n\n\nLevel UP will include...\n\n	Workshops\n	Swag\n	Lunch pick/free lunch\n	And so much more!
X-ALT-DESC;FMTTYPE=text/html:Join the Y for their new virtual event\, STEP OUT AND LEVEL UP--a life skill and employment conference for young adults.<br />\n<br />\nKickoff event Monday at 10:00am\, featuring local athletes\, artists\, and entrepreneurs.<br />\n<br />\nLevel UP will include...\n<ul>\n	<li>Workshops</li>\n	<li>Swag</li>\n	<li>Lunch pick/free lunch</li>\n	<li>And so much more!</li>\n</ul>\n
LOCATION:Virtual via MS Teams
UID:e.2591.4152
SEQUENCE:3
DTSTAMP:20260419T181112Z
URL:http://sschamber.chambermaster.com/events/details/ymca-step-out-and-level-up-4152
END:VEVENT

END:VCALENDAR
